BEGIN:VCALENDAR
VERSION:2.0
PRODID:-//IAALV - ECPv6.15.20//NONSGML v1.0//EN
CALSCALE:GREGORIAN
METHOD:PUBLISH
X-ORIGINAL-URL:http://iaalv.org/wp
X-WR-CALDESC:Events for IAALV
REFRESH-INTERVAL;VALUE=DURATION:PT1H
X-Robots-Tag:noindex
X-PUBLISHED-TTL:PT1H
BEGIN:VTIMEZONE
TZID:America/New_York
BEGIN:DAYLIGHT
TZOFFSETFROM:-0500
TZOFFSETTO:-0400
TZNAME:EDT
DTSTART:20160313T070000
END:DAYLIGHT
BEGIN:STANDARD
TZOFFSETFROM:-0400
TZOFFSETTO:-0500
TZNAME:EST
DTSTART:20161106T060000
END:STANDARD
BEGIN:DAYLIGHT
TZOFFSETFROM:-0500
TZOFFSETTO:-0400
TZNAME:EDT
DTSTART:20170312T070000
END:DAYLIGHT
BEGIN:STANDARD
TZOFFSETFROM:-0400
TZOFFSETTO:-0500
TZNAME:EST
DTSTART:20171105T060000
END:STANDARD
BEGIN:DAYLIGHT
TZOFFSETFROM:-0500
TZOFFSETTO:-0400
TZNAME:EDT
DTSTART:20180311T070000
END:DAYLIGHT
BEGIN:STANDARD
TZOFFSETFROM:-0400
TZOFFSETTO:-0500
TZNAME:EST
DTSTART:20181104T060000
END:STANDARD
BEGIN:DAYLIGHT
TZOFFSETFROM:-0500
TZOFFSETTO:-0400
TZNAME:EDT
DTSTART:20190310T070000
END:DAYLIGHT
BEGIN:STANDARD
TZOFFSETFROM:-0400
TZOFFSETTO:-0500
TZNAME:EST
DTSTART:20191103T060000
END:STANDARD
BEGIN:DAYLIGHT
TZOFFSETFROM:-0500
TZOFFSETTO:-0400
TZNAME:EDT
DTSTART:20200308T070000
END:DAYLIGHT
BEGIN:STANDARD
TZOFFSETFROM:-0400
TZOFFSETTO:-0500
TZNAME:EST
DTSTART:20201101T060000
END:STANDARD
END:VTIMEZONE
BEGIN:VEVENT
DTSTART;TZID=America/New_York:20190126T143000
DTEND;TZID=America/New_York:20190126T173000
DTSTAMP:20260424T060436
CREATED:20190109T053319Z
LAST-MODIFIED:20190123T052127Z
UID:498-1548513000-1548523800@iaalv.org
SUMMARY:70th Republic Day of India
DESCRIPTION:We invite you to celebrate 70th republic day of India with a tribute to democracies around the world. \nProgram details:\n \n\nWelcome speech\nRepublic day celebration\nCultural programs\nAntakshari\nSocial gathering and light snacks\n\nhttp://iaalv.org/wp/wp-content/uploads/2019/01/IAALV-Antakshari-Jan019-ad.mp4\nCome\, bring your family and friends. Let us celebrate 70th republic day of India. This event is free for all. \nIAALV General body meeting\nIAALV General body meeting is schedule to begin at 1:30PM. If you are in the IAALV board or IAALV executive committee\, or if you are interested in joining\, we appreciate if you could join us\, share your ideas and thoughts. \n\nOur sponsors:
URL:http://iaalv.org/wp/event/70th-republic-day-of-india/
LOCATION:Whitaker Auditorium\, 5 E Packer Ave\, Bethlehem\, PA\, 18015\, United States
ORGANIZER;CN="IAALV":MAILTO:info@iaalv.org
END:VEVENT
BEGIN:VEVENT
DTSTART;TZID=America/New_York:20181201T143000
DTEND;TZID=America/New_York:20181201T193000
DTSTAMP:20260424T060436
CREATED:20181031T205609Z
LAST-MODIFIED:20181107T041448Z
UID:478-1543674600-1543692600@iaalv.org
SUMMARY:2018 IAALV Diwali and Holidays Dhamaka
DESCRIPTION:Tickets are on sale now. Please visit  https://www.tututix.com/client/iaalv/ \nPlease Note: We will not be selling tickets at the gate/event. This show is usually a sell out event. Buy early\, reserve the best seat available and avoid disappointment. \nAlso note: Everyone of age 5 and older attending the event\, including participants and committee/board/regular members\, are required to buy tickets. Ticket includes snack and dinner. \n \n\nOur sponsors:
URL:http://iaalv.org/wp/event/2018-iaalv-diwali-and-holidays-dhamaka/
LOCATION:Springhouse Middle School\, 1200 Springhouse Rd\, Allentown\, PA\, 18104\, United States
ORGANIZER;CN="IAALV":MAILTO:info@iaalv.org
END:VEVENT
BEGIN:VEVENT
DTSTART;TZID=America/New_York:20180815T113000
DTEND;TZID=America/New_York:20180815T130000
DTSTAMP:20260424T060436
CREATED:20180724T125158Z
LAST-MODIFIED:20180724T125158Z
UID:467-1534332600-1534338000@iaalv.org
SUMMARY:2018 India Day Flag Raising Ceremony
DESCRIPTION:India’s 72st Independence Day :: FLAG RAISING CEREMONY \nAll Are Cordially Invited To Join In the Celebration. Come join us to salute the Flag of India. \nTo pay tribute to the most populous democracy of the modern world! \nOfficials from Allentown Mayor’s office\, Allentown City Police Department\, Fire Department will be present at the event. \nProgram Schedule\n11:30 am : Socialize and meet dignitaries\n12:00 pm : Flag Raising Ceremony\n12:30 pm : Light Snack and socialize \nHistory\nAugust 15th\, 1947\, India became an independent nation.\nSeventh largest country by area\, the second-most populous country with over 1.2 billion people. Home to the over 5000 years ancient Indus Valley Civilization. Four world religions—Hinduism\, Buddhism\, Jainism\, and Sikhism—originated here\, and Judaism\, Zoroastrianism\, Christianity\, and Islam arrived in the 1st millennium CE and shaped its’ diverse culture.\nIndia is a Federal Constitutional Republic governed under a Parliamentary System consisting of 29 States & 7 Union Territories. India is a pluralistic\, multilingual\, multi-religious and multi-ethnic society. \nFolks\, since 1989\, The Mayor of City of Allentown has been by us on this day giving the Lehigh Valley Indian-Americans the privilege of hoisting the Indian flag at the Allentown City Hall. Come join us in honoring our birth country in our adopted country. \n– Team IAALV
URL:http://iaalv.org/wp/event/2018-india-day-flag-raising-ceremony/
LOCATION:Allentown City Hall\, 435 Hamilton St\, Allentown\, PA\, 18101\, United States
ORGANIZER;CN="IAALV":MAILTO:info@iaalv.org
END:VEVENT
BEGIN:VEVENT
DTSTART;TZID=America/New_York:20171015T163000
DTEND;TZID=America/New_York:20171015T193000
DTSTAMP:20260424T060436
CREATED:20170917T004013Z
LAST-MODIFIED:20170918T151712Z
UID:391-1508085000-1508095800@iaalv.org
SUMMARY:Sur'oh Ka Dhamaka
DESCRIPTION:Please Note: Seats numbers are used only to help with Ticketing process. The actual seat allocation at the venue will be done based on the First-Come-First-Serve to the venue. If you have any questions\, please contact supdey@hotmail.com \nTickets are on sale now. Get yours for $17 by visiting the link below… \nhttps://www.tututix.com/client/iaalv/ \n  \n\nFlyer
URL:http://iaalv.org/wp/event/suroh-ka-dhamaka/
LOCATION:Hindu Temple Society\, 4200 Airport Rd\, Allentown\, PA\, 18109\, United States
END:VEVENT
BEGIN:VEVENT
DTSTART;TZID=America/New_York:20170923T113000
DTEND;TZID=America/New_York:20170923T150000
DTSTAMP:20260424T060436
CREATED:20170916T232242Z
LAST-MODIFIED:20170916T232502Z
UID:387-1506166200-1506178800@iaalv.org
SUMMARY:Foods of India - Hurricane Relief Fundraiser
DESCRIPTION:Foods of India
URL:http://iaalv.org/wp/event/foi2017/
LOCATION:Springhouse Middle School\, 1200 Springhouse Rd\, Allentown\, PA\, 18104\, United States
ORGANIZER;CN="IAALV":MAILTO:info@iaalv.org
END:VEVENT
BEGIN:VEVENT
DTSTART;TZID=America/New_York:20170815T113000
DTEND;TZID=America/New_York:20170815T133000
DTSTAMP:20260424T060436
CREATED:20170728T201651Z
LAST-MODIFIED:20170728T203936Z
UID:365-1502796600-1502803800@iaalv.org
SUMMARY:2017 India Day Flag Raising Ceremony
DESCRIPTION:India’s 71st Independence Day :: FLAG RAISING CEREMONY \nAll Are Cordially Invited To Join In the Celebration. Come join us to salute the Flag of India. \nTo pay tribute to the most populous democracy of the modern world! \nOfficials from Allentown Mayor’s office\, Allentown City Police Department\, Fire Department will be present at the event. \nProgram Schedule\n11:30 am : Socialize and meet dignitaries\n 12:00 pm : Flag Raising Ceremony\n 12:30 pm : Light Snack and socialize \nHistory\nAugust 15th\, 1947\, India became an independent nation.\n Seventh largest country by area\, the second-most populous country with over 1.2 billion people. Home to the over 5000 years ancient Indus Valley Civilization. Four world religions—Hinduism\, Buddhism\, Jainism\, and Sikhism—originated here\, and Judaism\, Zoroastrianism\, Christianity\, and Islam arrived in the 1st millennium CE and shaped its’ diverse culture.\n India is a Federal Constitutional Republic governed under a Parliamentary System consisting of 29 States & 7 Union Territories. India is a pluralistic\, multilingual\, multi-religious and multi-ethnic society. \nFolks\, since 1989\, The Mayor of City of Allentown has been by us on this day giving the Lehigh Valley Indian-Americans the privilege of hoisting the Indian flag at the Allentown City Hall. Come join us in honoring our birth country in our adopted country. \n– Team IAALV
URL:http://iaalv.org/wp/event/2017-india-day-flag-raising/
LOCATION:Allentown City Hall\, 435 Hamilton St\, Allentown\, PA\, 18101\, United States
ORGANIZER;CN="IAALV":MAILTO:info@iaalv.org
END:VEVENT
END:VCALENDAR